BEGIN:VCALENDAR
VERSION:2.0
PRODID:-//SVP Kanton Schwyz //NONSGML Events //EN
CALSCALE:GREGORIAN
X-WR-CALNAME:SVP Kanton Schwyz
BEGIN:VEVENT
CREATED:20251216T092549Z
UID:22126
DTEND:20260520T000000
DTSTART:20260520T000000
DTSTAMP:20260425T142340Z
LOCATION:
DESCRIPTION:
SUMMARY: Session Schwyzer Kantonsrat 
ORGANIZER:
URL;VALUE=URI:https://www.svp-sz.ch/aktuell/termine/session-schwyzer-kantonsrat-42/
TRANSP:OPAQUE
END:VEVENT
END:VCALENDAR
