BEGIN:VCALENDAR
VERSION:2.0
PRODID:-//SVP Kanton Schwyz //NONSGML Events //EN
CALSCALE:GREGORIAN
X-WR-CALNAME:SVP Kanton Schwyz
BEGIN:VEVENT
CREATED:20251216T092549Z
UID:22118
DTEND:20260616T000000
DTSTART:20260616T000000
DTSTAMP:20260425T144751Z
LOCATION:
DESCRIPTION:
SUMMARY:Fraktionssitzung Kantonsrat
ORGANIZER:
URL;VALUE=URI:https://www.svp-sz.ch/aktuell/termine/fraktionssitzung-kantonsrat-14/
TRANSP:OPAQUE
END:VEVENT
END:VCALENDAR
