BEGIN:VCALENDAR
VERSION:2.0
PRODID:-//SVP Kanton Schwyz //NONSGML Events //EN
CALSCALE:GREGORIAN
X-WR-CALNAME:SVP Kanton Schwyz
BEGIN:VEVENT
CREATED:20251216T092549Z
UID:22110
DTEND:20260624T000000
DTSTART:20260624T000000
DTSTAMP:20260425T145241Z
LOCATION:
DESCRIPTION:
SUMMARY:Fraktionsausflug Kantonsrat Schwyz
ORGANIZER:
URL;VALUE=URI:https://www.svp-sz.ch/aktuell/termine/fraktionsausflug-kantonsrat-schwyz-6/
TRANSP:OPAQUE
END:VEVENT
END:VCALENDAR
