BEGIN:VCALENDAR
VERSION:2.0
PRODID:-//SVP Kanton Schwyz //NONSGML Events //EN
CALSCALE:GREGORIAN
X-WR-CALNAME:SVP Kanton Schwyz
BEGIN:VEVENT
CREATED:20251216T092549Z
UID:22109
DTEND:20260502T000000
DTSTART:20260502T000000
DTSTAMP:20260425T144613Z
LOCATION:Zürich
DESCRIPTION:
SUMMARY:Treffen mit den SVP Regierungsräten der Schweiz
ORGANIZER:
URL;VALUE=URI:https://www.svp-sz.ch/aktuell/termine/treffen-mit-den-svp-regierungsraeten-der-schweiz-5/
TRANSP:OPAQUE
END:VEVENT
END:VCALENDAR
