BEGIN:VCALENDAR
VERSION:2.0
PRODID:-//SVP Kanton Schwyz //NONSGML Events //EN
CALSCALE:GREGORIAN
X-WR-CALNAME:SVP Kanton Schwyz
BEGIN:VEVENT
CREATED:20251216T092549Z
UID:22099
DTEND:20260501T000000
DTSTART:20260427T000000
DTSTAMP:20260425T142835Z
LOCATION:
DESCRIPTION:
SUMMARY:Eidg. Sondersession
ORGANIZER:
URL;VALUE=URI:https://www.svp-sz.ch/aktuell/termine/eidg-sondersession/
TRANSP:OPAQUE
END:VEVENT
END:VCALENDAR
