BEGIN:VCALENDAR
VERSION:2.0
PRODID:-//SVP Kanton Schwyz //NONSGML Events //EN
CALSCALE:GREGORIAN
X-WR-CALNAME:SVP Kanton Schwyz
BEGIN:VEVENT
CREATED:20251216T092548Z
UID:22096
DTEND:20260619T000000
DTSTART:20260601T000000
DTSTAMP:20260425T142155Z
LOCATION:
DESCRIPTION:
SUMMARY:Eidgenössische Session
ORGANIZER:
URL;VALUE=URI:https://www.svp-sz.ch/aktuell/termine/eidgenoessische-session-2/
TRANSP:OPAQUE
END:VEVENT
END:VCALENDAR
