BEGIN:VCALENDAR
VERSION:2.0
PRODID:-//SVP Kanton Schwyz //NONSGML Events //EN
CALSCALE:GREGORIAN
X-WR-CALNAME:SVP Kanton Schwyz
BEGIN:VEVENT
CREATED:20251216T092548Z
UID:22092
DTEND:20260614T000000
DTSTART:20260614T000000
DTSTAMP:20260425T162519Z
LOCATION:
DESCRIPTION:
SUMMARY:Eidg. und kantonale Abstimmung
ORGANIZER:CH
URL;VALUE=URI:https://www.svp-sz.ch/aktuell/termine/eidg-und-kantonale-abstimmung-16/
TRANSP:OPAQUE
END:VEVENT
END:VCALENDAR
