BEGIN:VCALENDAR
VERSION:2.0
PRODID:-//SVP Kanton Schwyz //NONSGML Events //EN
CALSCALE:GREGORIAN
X-WR-CALNAME:SVP Kanton Schwyz
BEGIN:VEVENT
CREATED:20241213T051925Z
UID:21133
DTEND:20250813T000000
DTSTART:20250813T000000
DTSTAMP:20260420T081747Z
LOCATION:
DESCRIPTION:
SUMMARY:Sitzung Geschäftsleitung
ORGANIZER:
URL;VALUE=URI:https://www.svp-sz.ch/aktuell/termine/sitzung-geschaeftsleitung-22/
TRANSP:OPAQUE
END:VEVENT
END:VCALENDAR
