BEGIN:VCALENDAR
VERSION:2.0
PRODID:-//SVP Kanton Schwyz //NONSGML Events //EN
CALSCALE:GREGORIAN
X-WR-CALNAME:SVP Kanton Schwyz
BEGIN:VEVENT
CREATED:20231017T094340Z
UID:13590
DTEND:20231024T210000
DTSTART:20231024T200000
DTSTAMP:20231024T151814Z
LOCATION:Restaurant Pyramide\, Samstagernstrasse 41\, 8832 Wollerau
DESCRIPTION: 
SUMMARY:Parteiversammlung
ORGANIZER:
URL;VALUE=URI:https://www.svp-sz.ch/aktuell/termine/parteiversammlung-8/
TRANSP:OPAQUE
END:VEVENT
END:VCALENDAR
