BEGIN:VCALENDAR
VERSION:2.0
PRODID:-//SVP Kanton Schwyz //NONSGML Events //EN
CALSCALE:GREGORIAN
X-WR-CALNAME:SVP Kanton Schwyz
BEGIN:VEVENT
CREATED:20231004T072710Z
UID:13555
DTEND:20231016T170000
DTSTART:20231016T090000
DTSTAMP:20231024T153643Z
LOCATION:Waagtalstrasse\, 8842 Unteriberg
DESCRIPTION:
SUMMARY:SVP Bi DE LÜT: Standaktion am Stöckmärcht
ORGANIZER:
URL;VALUE=URI:https://www.svp-sz.ch/aktuell/termine/svp-bi-de-luet-standaktion-am-stoeckmaercht/
TRANSP:OPAQUE
END:VEVENT
END:VCALENDAR
