BEGIN:VCALENDAR
VERSION:2.0
PRODID:-//SVP Kanton Schwyz //NONSGML Events //EN
CALSCALE:GREGORIAN
X-WR-CALNAME:SVP Kanton Schwyz
BEGIN:VEVENT
CREATED:20230912T054853Z
UID:13504
DTEND:20230921T200000
DTSTART:20230921T193000
DTSTAMP:20231024T153729Z
LOCATION:
DESCRIPTION:
SUMMARY:Podiumsgespräch: Asylchaos &#8211\;  Es kommen zu viele und die falschen Ausländer
ORGANIZER:Restaurant Verenahof Wollerau im Burghofsaal
URL;VALUE=URI:https://www.svp-sz.ch/aktuell/termine/podiumsgespraech-asylchaos-es-kommen-zu-viele-und-die-falschen-auslaender/
TRANSP:OPAQUE
END:VEVENT
END:VCALENDAR
