BEGIN:VCALENDAR
VERSION:2.0
PRODID:-//SVP Kanton Schwyz //NONSGML Events //EN
CALSCALE:GREGORIAN
X-WR-CALNAME:SVP Kanton Schwyz
BEGIN:VEVENT
CREATED:20230905T114206Z
UID:13473
DTEND:20231005T200000
DTSTART:20231005T193000
DTSTAMP:20231024T153556Z
LOCATION:Seehotel Waldstätterhof
DESCRIPTION:
SUMMARY:«Schweiz &#8211\; Ja oder Nein »
ORGANIZER:
URL;VALUE=URI:https://www.svp-sz.ch/aktuell/termine/schweiz-ja-oder-nein/
TRANSP:OPAQUE
END:VEVENT
END:VCALENDAR
