BEGIN:VCALENDAR
VERSION:2.0
PRODID:-//SVP Kanton Schwyz //NONSGML Events //EN
CALSCALE:GREGORIAN
X-WR-CALNAME:SVP Kanton Schwyz
BEGIN:VEVENT
CREATED:20230901T124747Z
UID:13459
DTEND:20230916T113000
DTSTART:20230916T090000
DTSTAMP:20231024T153617Z
LOCATION:Werkhof Schindellegi
DESCRIPTION:
SUMMARY:SVP Bi DE LÜT: Kaffi\, 5er und s`Weggli\, Schweinswürstli
ORGANIZER:
URL;VALUE=URI:https://www.svp-sz.ch/aktuell/termine/svp-bi-de-luet-kaffi-5er-und-sweggli-schweinswuerstli/
TRANSP:OPAQUE
END:VEVENT
END:VCALENDAR
