BEGIN:VCALENDAR
VERSION:2.0
PRODID:-//SVP Kanton Schwyz //NONSGML Events //EN
CALSCALE:GREGORIAN
X-WR-CALNAME:SVP Kanton Schwyz
BEGIN:VEVENT
CREATED:20230831T140333Z
UID:13442
DTEND:20230915T200000
DTSTART:20230915T193000
DTSTAMP:20231024T153802Z
LOCATION:Restaurant Sternen\, Churerstrasse 34\, 8808 Pfäffikon
DESCRIPTION:
SUMMARY:Wann geht die Schweiz Bankrott?
ORGANIZER:
URL;VALUE=URI:https://www.svp-sz.ch/aktuell/termine/wann-geht-die-schweiz-bankrott/
TRANSP:OPAQUE
END:VEVENT
END:VCALENDAR
