BEGIN:VCALENDAR
VERSION:2.0
PRODID:-//SVP Kanton Schwyz //NONSGML Events //EN
CALSCALE:GREGORIAN
X-WR-CALNAME:SVP Kanton Schwyz
BEGIN:VEVENT
CREATED:20230829T113553Z
UID:13434
DTEND:20231008T173000
DTSTART:20231008T110000
DTSTAMP:20231024T153447Z
LOCATION:MZG Areal Kanzleiweg 1\, Reichenburg SZ
DESCRIPTION:
SUMMARY:SVP bi de Lüt &#8211\; SVP Reichenburg a de Chilbi
ORGANIZER:
URL;VALUE=URI:https://www.svp-sz.ch/aktuell/termine/svp-reichenburg-a-de-chilbi/
TRANSP:OPAQUE
END:VEVENT
END:VCALENDAR
