BEGIN:VCALENDAR
VERSION:2.0
PRODID:-//SVP Kanton Schwyz //NONSGML Events //EN
CALSCALE:GREGORIAN
X-WR-CALNAME:SVP Kanton Schwyz
BEGIN:VEVENT
CREATED:20230829T112436Z
UID:13432
DTEND:20230922T220000
DTSTART:20230922T180000
DTSTAMP:20231024T153745Z
LOCATION:Viktor Meili AG\, Schübelbach
DESCRIPTION:
SUMMARY:SVP bi de Lüt &#8211\; SVP Schübelbach Fyrobig Bier mit Grill
ORGANIZER:
URL;VALUE=URI:https://www.svp-sz.ch/aktuell/termine/svp-schuebelbach-fyrobig-bier-mit-grill/
TRANSP:OPAQUE
END:VEVENT
END:VCALENDAR
