BEGIN:VCALENDAR
VERSION:2.0
PRODID:-//SVP Kanton Schwyz //NONSGML Events //EN
CALSCALE:GREGORIAN
X-WR-CALNAME:SVP Kanton Schwyz
BEGIN:VEVENT
CREATED:20230829T112058Z
UID:13430
DTEND:20231021T180000
DTSTART:20231021T090000
DTSTAMP:20231024T153532Z
LOCATION:SVP Stand\, Kirchstrasse 3\, Freienbach
DESCRIPTION:
SUMMARY:SVP bi de Lüt &#8211\; Herbstmärt Freienbach
ORGANIZER:
URL;VALUE=URI:https://www.svp-sz.ch/aktuell/termine/herbstmaert-freienbach/
TRANSP:OPAQUE
END:VEVENT
END:VCALENDAR
