BEGIN:VCALENDAR
VERSION:2.0
PRODID:-//SVP Kanton Schwyz //NONSGML Events //EN
CALSCALE:GREGORIAN
X-WR-CALNAME:SVP Kanton Schwyz
BEGIN:VEVENT
CREATED:20230821T124443Z
UID:13424
DTEND:20230908T180000
DTSTART:20230908T170000
DTSTAMP:20231024T153737Z
LOCATION:Dorfplatz\, 6424 Lauerz
DESCRIPTION:
SUMMARY:Feierabend Bier
ORGANIZER:
URL;VALUE=URI:https://www.svp-sz.ch/aktuell/termine/feierabend-bier/
TRANSP:OPAQUE
END:VEVENT
END:VCALENDAR
