BEGIN:VCALENDAR
VERSION:2.0
PRODID:-//SVP Kanton Schwyz //NONSGML Events //EN
CALSCALE:GREGORIAN
X-WR-CALNAME:SVP Kanton Schwyz
BEGIN:VEVENT
CREATED:20230821T121525Z
UID:13421
DTEND:20230916T120000
DTSTART:20230916T083000
DTSTAMP:20231024T153941Z
LOCATION:vor Restaurant Gotthard\, Parkstrasse\, 6410 Goldau
DESCRIPTION:
SUMMARY:Kaffee und Gipfäli &#8211\; SVP bi de Lüt
ORGANIZER:
URL;VALUE=URI:https://www.svp-sz.ch/aktuell/termine/kaffee-und-gipfaeli-svp-bi-de-luet/
TRANSP:OPAQUE
END:VEVENT
END:VCALENDAR
