BEGIN:VCALENDAR
VERSION:2.0
PRODID:-//SVP Kanton Schwyz //NONSGML Events //EN
CALSCALE:GREGORIAN
X-WR-CALNAME:SVP Kanton Schwyz
BEGIN:VEVENT
CREATED:20230821T121341Z
UID:13418
DTEND:20230909T140000
DTSTART:20230909T110000
DTSTAMP:20231024T153650Z
LOCATION:Bundeskapelle\, Bahnhofstrasse\, 6440 Brunnen
DESCRIPTION:
SUMMARY:Grill &#8211\; SVP Ingenbohl-Brunnen
ORGANIZER:
URL;VALUE=URI:https://www.svp-sz.ch/aktuell/termine/grill-svp-ingenbohl-brunnen/
TRANSP:OPAQUE
END:VEVENT
END:VCALENDAR
