BEGIN:VCALENDAR
VERSION:2.0
PRODID:-//SVP Kanton Schwyz //NONSGML Events //EN
CALSCALE:GREGORIAN
X-WR-CALNAME:SVP Kanton Schwyz
BEGIN:VEVENT
CREATED:20230821T115519Z
UID:13415
DTEND:20230909T110000
DTSTART:20230909T080000
DTSTAMP:20231024T153700Z
LOCATION:Helbling Landtechnik\, Sattelstrasse 15\, 6416 Steinerberg
DESCRIPTION:
SUMMARY:Rundfahrten für Gross und Klein mit John Deere und Aebi
ORGANIZER:
URL;VALUE=URI:https://www.svp-sz.ch/aktuell/termine/rundfahrten-fuer-gross-und-klein-mit-john-deere-und-aebi/
TRANSP:OPAQUE
END:VEVENT
END:VCALENDAR
