BEGIN:VCALENDAR
VERSION:2.0
PRODID:-//SVP Kanton Schwyz //NONSGML Events //EN
CALSCALE:GREGORIAN
X-WR-CALNAME:SVP Kanton Schwyz
BEGIN:VEVENT
CREATED:20230802T042352Z
UID:13384
DTEND:20230825T180000
DTSTART:20230825T170000
DTSTAMP:20231024T153903Z
LOCATION:Elvi’s Beiz\, Altendorf
DESCRIPTION:
SUMMARY:SVP bi de Lüt
ORGANIZER:
URL;VALUE=URI:https://www.svp-sz.ch/aktuell/termine/svp-bi-de-luet/
TRANSP:OPAQUE
END:VEVENT
END:VCALENDAR
