BEGIN:VCALENDAR
VERSION:2.0
PRODID:-//SVP Kanton Schwyz //NONSGML Events //EN
CALSCALE:GREGORIAN
X-WR-CALNAME:SVP Kanton Schwyz
BEGIN:VEVENT
CREATED:20230703T084106Z
UID:13209
DTEND:20230819T213000
DTSTART:20230819T153000
DTSTAMP:20231024T153910Z
LOCATION:Tischmacherhof\, Galgenen
DESCRIPTION:
SUMMARY:Sommerevent mit Festwirtschaft – SVP bi de Lüt
ORGANIZER:
URL;VALUE=URI:https://www.svp-sz.ch/aktuell/termine/sommerevent-mit-festwirtschaft-svp-bi-de-luet/
TRANSP:OPAQUE
END:VEVENT
END:VCALENDAR
