BEGIN:VCALENDAR
VERSION:2.0
PRODID:-//SVP Kanton Schwyz //NONSGML Events //EN
CALSCALE:GREGORIAN
X-WR-CALNAME:SVP Kanton Schwyz
BEGIN:VEVENT
CREATED:20230619T114940Z
UID:13169
DTEND:20230801T140000
DTSTART:20230801T100000
DTSTAMP:20231024T153830Z
LOCATION:Mehrzweckanlage\, Dorfstrasse 19\, 8849 Alpthal
DESCRIPTION:
SUMMARY:Standaktion: Midänand 1. August firä!
ORGANIZER:
URL;VALUE=URI:https://www.svp-sz.ch/aktuell/termine/standaktion-midaenand-1-august-firae/
TRANSP:OPAQUE
END:VEVENT
END:VCALENDAR
