BEGIN:VCALENDAR
VERSION:2.0
PRODID:-//SVP Kanton Schwyz //NONSGML Events //EN
CALSCALE:GREGORIAN
X-WR-CALNAME:SVP Kanton Schwyz
BEGIN:VEVENT
CREATED:20230619T114842Z
UID:13166
DTEND:20230708T210000
DTSTART:20230708T163000
DTSTAMP:20231024T154035Z
LOCATION:Seestrasse bei der Seebühne\, 6442 Gersau
DESCRIPTION:
SUMMARY:SVP bi de Lüt
ORGANIZER:
URL;VALUE=URI:https://www.svp-sz.ch/aktuell/termine/seenachtsfest-gersau-svp-bi-de-luet/
TRANSP:OPAQUE
END:VEVENT
END:VCALENDAR
