BEGIN:VCALENDAR
VERSION:2.0
PRODID:-//SVP Kanton Schwyz //NONSGML Events //EN
CALSCALE:GREGORIAN
X-WR-CALNAME:SVP Kanton Schwyz
BEGIN:VEVENT
CREATED:20230614T112957Z
UID:13155
DTEND:20230708T120000
DTSTART:20230708T080000
DTSTAMP:20231024T153845Z
LOCATION:Hauptplatz\, 6430 Schwyz
DESCRIPTION:
SUMMARY:Kaffee und Gipfäli ufem Hauptplatz Schwyz &#8211\; SVP bi de Lüt
ORGANIZER:
URL;VALUE=URI:https://www.svp-sz.ch/aktuell/termine/kaffee-und-gipfaeli-ufem-hauptplatz-schwyz-svp-bi-de-luet/
TRANSP:OPAQUE
END:VEVENT
END:VCALENDAR
