BEGIN:VCALENDAR
VERSION:2.0
PRODID:-//SVP Kanton Schwyz //NONSGML Events //EN
CALSCALE:GREGORIAN
X-WR-CALNAME:SVP Kanton Schwyz
BEGIN:VEVENT
CREATED:20230612T132927Z
UID:13139
DTEND:20230707T180000
DTSTART:20230707T170000
DTSTAMP:20231024T153959Z
LOCATION:Restaurant Hirschen\, Dorfstrasse 13\, 6443 Morschach
DESCRIPTION:
SUMMARY:Fyrabigbier in Morschach &#8211\; SVP bi de Lüt
ORGANIZER:
URL;VALUE=URI:https://www.svp-sz.ch/aktuell/termine/fyrabigbier-in-morschach-svp-bi-de-luet/
TRANSP:OPAQUE
END:VEVENT
END:VCALENDAR
