BEGIN:VCALENDAR
VERSION:2.0
PRODID:-//SVP Kanton Schwyz //NONSGML Events //EN
CALSCALE:GREGORIAN
X-WR-CALNAME:SVP Kanton Schwyz
BEGIN:VEVENT
CREATED:20230607T110800Z
UID:13131
DTEND:20230714T180000
DTSTART:20230714T170000
DTSTAMP:20231024T153948Z
LOCATION:Rickenbacher GmbH Weid 1\, 6436 Muotathal
DESCRIPTION:
SUMMARY:Feierabend Bier &#8211\; SVP bi de Lüt
ORGANIZER:
URL;VALUE=URI:https://www.svp-sz.ch/aktuell/termine/feierabend-bier-svp-bi-de-luet/
TRANSP:OPAQUE
END:VEVENT
END:VCALENDAR
