BEGIN:VCALENDAR
VERSION:2.0
PRODID:-//SVP Kanton Schwyz //NONSGML Events //EN
CALSCALE:GREGORIAN
X-WR-CALNAME:SVP Kanton Schwyz
BEGIN:VEVENT
CREATED:20230607T092034Z
UID:13127
DTEND:20230629T210000
DTSTART:20230629T200000
DTSTAMP:20231024T153853Z
LOCATION:Restaurant Husmatt\, Husmattrain 2\, 6422 Steinen
DESCRIPTION:
SUMMARY:Infoveranstaltung &#8211\; Ukraine-Krieg und seine Folgen
ORGANIZER:
URL;VALUE=URI:https://www.svp-sz.ch/aktuell/termine/infoveranstaltung-ukraine-krieg-und-seine-folgen/
TRANSP:OPAQUE
END:VEVENT
END:VCALENDAR
