BEGIN:VCALENDAR
VERSION:2.0
PRODID:-//SVP Kanton Schwyz //NONSGML Events //EN
CALSCALE:GREGORIAN
X-WR-CALNAME:SVP Kanton Schwyz
BEGIN:VEVENT
CREATED:20230511T094457Z
UID:13075
DTEND:20230603T190000
DTSTART:20230603T180000
DTSTAMP:20231024T153928Z
LOCATION:Buchberghalle in Wangen
DESCRIPTION:Wahlauftakt der SVP Kanton Schwyz 🗓️ 3. Juni 🕕 ab 18.00 Uhr 
SUMMARY:Wahlauftakt der SVP Schwyz
ORGANIZER:
URL;VALUE=URI:https://www.svp-sz.ch/aktuell/termine/wahlauftakt-der-svp-schwyz/
TRANSP:OPAQUE
END:VEVENT
END:VCALENDAR
