BEGIN:VCALENDAR
VERSION:2.0
PRODID:-//SVP Kanton Schwyz //NONSGML Events //EN
CALSCALE:GREGORIAN
X-WR-CALNAME:SVP Kanton Schwyz
BEGIN:VEVENT
CREATED:20221216T054336Z
UID:12929
DTEND:20231129T200000
DTSTART:20231129T193000
DTSTAMP:20231024T152100Z
LOCATION:
DESCRIPTION:
SUMMARY:Geschäftsleitung
ORGANIZER:
URL;VALUE=URI:https://www.svp-sz.ch/aktuell/termine/geschaeftsleitung-10/
TRANSP:OPAQUE
END:VEVENT
END:VCALENDAR
