BEGIN:VCALENDAR
VERSION:2.0
PRODID:-//SVP Kanton Schwyz //NONSGML Events //EN
CALSCALE:GREGORIAN
X-WR-CALNAME:SVP Kanton Schwyz
BEGIN:VEVENT
CREATED:20221216T054336Z
UID:12926
DTEND:20230822T200000
DTSTART:20230822T193000
DTSTAMP:20231024T153917Z
LOCATION:
DESCRIPTION:
SUMMARY:Geschäftsleitung
ORGANIZER:
URL;VALUE=URI:https://www.svp-sz.ch/aktuell/termine/geschaeftsleitung-7/
TRANSP:OPAQUE
END:VEVENT
END:VCALENDAR
