BEGIN:VCALENDAR
VERSION:2.0
PRODID:-//SVP Kanton Schwyz //NONSGML Events //EN
CALSCALE:GREGORIAN
X-WR-CALNAME:SVP Kanton Schwyz
BEGIN:VEVENT
CREATED:20221216T054336Z
UID:12923
DTEND:20230413T200000
DTSTART:20230413T193000
DTSTAMP:20231024T153900Z
LOCATION:
DESCRIPTION:
SUMMARY:Geschäftsleitung
ORGANIZER:
URL;VALUE=URI:https://www.svp-sz.ch/aktuell/termine/geschaeftsleitung-4/
TRANSP:OPAQUE
END:VEVENT
END:VCALENDAR
