BEGIN:VCALENDAR
VERSION:2.0
PRODID:-//SVP Kanton Schwyz //NONSGML Events //EN
CALSCALE:GREGORIAN
X-WR-CALNAME:SVP Kanton Schwyz
BEGIN:VEVENT
CREATED:20221216T054335Z
UID:12899
DTEND:20230828T200000
DTSTART:20230828T190000
DTSTAMP:20231024T154026Z
LOCATION:
DESCRIPTION:
SUMMARY:Kantonalvorstand
ORGANIZER:
URL;VALUE=URI:https://www.svp-sz.ch/aktuell/termine/kantonalvorstand-4/
TRANSP:OPAQUE
END:VEVENT
END:VCALENDAR
