BEGIN:VCALENDAR
VERSION:2.0
PRODID:-//SVP Kanton Schwyz //NONSGML Events //EN
CALSCALE:GREGORIAN
X-WR-CALNAME:SVP Kanton Schwyz
BEGIN:VEVENT
CREATED:20221216T054334Z
UID:12897
DTEND:20230131T200000
DTSTART:20230131T190000
DTSTAMP:20231024T153951Z
LOCATION:
DESCRIPTION:
SUMMARY:Kantonalvorstand
ORGANIZER:
URL;VALUE=URI:https://www.svp-sz.ch/aktuell/termine/kantonalvorstand-2/
TRANSP:OPAQUE
END:VEVENT
END:VCALENDAR
