BEGIN:VCALENDAR
VERSION:2.0
PRODID:-//SVP Kanton Schwyz //NONSGML Events //EN
CALSCALE:GREGORIAN
X-WR-CALNAME:SVP Kanton Schwyz
BEGIN:VEVENT
CREATED:20221216T054334Z
UID:12895
DTEND:20230107T000000
DTSTART:20230106T000000
DTSTAMP:20231024T153907Z
LOCATION:Bad Horn
DESCRIPTION:
SUMMARY:Bad Horn Tagung
ORGANIZER:
URL;VALUE=URI:https://www.svp-sz.ch/aktuell/termine/bad-horn-tagung-2/
TRANSP:OPAQUE
END:VEVENT
END:VCALENDAR
