BEGIN:VCALENDAR
VERSION:2.0
PRODID:-//SVP Kanton Schwyz //NONSGML Events //EN
CALSCALE:GREGORIAN
X-WR-CALNAME:SVP Kanton Schwyz
BEGIN:VEVENT
CREATED:20221216T054334Z
UID:12893
DTEND:20230818T000000
DTSTART:20230818T000000
DTSTAMP:20231024T153905Z
LOCATION:
DESCRIPTION:
SUMMARY:GV SVP international
ORGANIZER:
URL;VALUE=URI:https://www.svp-sz.ch/aktuell/termine/gv-svp-international-2/
TRANSP:OPAQUE
END:VEVENT
END:VCALENDAR
