BEGIN:VCALENDAR
VERSION:2.0
PRODID:-//SVP Kanton Schwyz //NONSGML Events //EN
CALSCALE:GREGORIAN
X-WR-CALNAME:SVP Kanton Schwyz
BEGIN:VEVENT
CREATED:20221216T054334Z
UID:12891
DTEND:20230506T000000
DTSTART:20230506T000000
DTSTAMP:20231024T153638Z
LOCATION:Zürich
DESCRIPTION:
SUMMARY:Treffen mit den SVP Regierungsräten der Schweiz
ORGANIZER:
URL;VALUE=URI:https://www.svp-sz.ch/aktuell/termine/treffen-mit-den-svp-regierungsraeten-der-schweiz-2/
TRANSP:OPAQUE
END:VEVENT
END:VCALENDAR
