BEGIN:VCALENDAR
VERSION:2.0
PRODID:-//SVP Kanton Schwyz //NONSGML Events //EN
CALSCALE:GREGORIAN
X-WR-CALNAME:SVP Kanton Schwyz
BEGIN:VEVENT
CREATED:20221216T054334Z
UID:12890
DTEND:20230312T000000
DTSTART:20230312T000000
DTSTAMP:20231024T153842Z
LOCATION:Hoch-Ybrig
DESCRIPTION:
SUMMARY:SVP Skitag
ORGANIZER:
URL;VALUE=URI:https://www.svp-sz.ch/aktuell/termine/svp-skitag/
TRANSP:OPAQUE
END:VEVENT
END:VCALENDAR
