BEGIN:VCALENDAR
VERSION:2.0
PRODID:-//SVP Kanton Schwyz //NONSGML Events //EN
CALSCALE:GREGORIAN
X-WR-CALNAME:SVP Kanton Schwyz
BEGIN:VEVENT
CREATED:20221216T054334Z
UID:12889
DTEND:20230307T000000
DTSTART:20230307T000000
DTSTAMP:20231024T153607Z
LOCATION:Bern
DESCRIPTION:
SUMMARY:Treffen Fraktion mit kant. Fraktionspräsidenten
ORGANIZER:
URL;VALUE=URI:https://www.svp-sz.ch/aktuell/termine/treffen-fraktion-mit-kant-fraktionspraesidenten-2/
TRANSP:OPAQUE
END:VEVENT
END:VCALENDAR
