BEGIN:VCALENDAR
VERSION:2.0
PRODID:-//SVP Kanton Schwyz //NONSGML Events //EN
CALSCALE:GREGORIAN
X-WR-CALNAME:SVP Kanton Schwyz
BEGIN:VEVENT
CREATED:20221216T054334Z
UID:12888
DTEND:20230218T000000
DTSTART:20230218T000000
DTSTAMP:20231024T153626Z
LOCATION:Kanton Aargau
DESCRIPTION:
SUMMARY:Jass-Cup SVP Schweiz
ORGANIZER:
URL;VALUE=URI:https://www.svp-sz.ch/aktuell/termine/jass-cup-svp-schweiz-3/
TRANSP:OPAQUE
END:VEVENT
END:VCALENDAR
