BEGIN:VCALENDAR
VERSION:2.0
PRODID:-//SVP Kanton Schwyz //NONSGML Events //EN
CALSCALE:GREGORIAN
X-WR-CALNAME:SVP Kanton Schwyz
BEGIN:VEVENT
CREATED:20221216T054334Z
UID:12887
DTEND:20231214T210000
DTSTART:20231214T200000
DTSTAMP:20231024T152119Z
LOCATION:
DESCRIPTION:
SUMMARY:ao. Generalversammlung
ORGANIZER:
URL;VALUE=URI:https://www.svp-sz.ch/aktuell/termine/ao-generalversammlung-2/
TRANSP:OPAQUE
END:VEVENT
END:VCALENDAR
