BEGIN:VCALENDAR
VERSION:2.0
PRODID:-//SVP Kanton Schwyz //NONSGML Events //EN
CALSCALE:GREGORIAN
X-WR-CALNAME:SVP Kanton Schwyz
BEGIN:VEVENT
CREATED:20221216T054334Z
UID:12881
DTEND:20231111T000000
DTSTART:20231111T000000
DTSTAMP:20231024T152115Z
LOCATION:
DESCRIPTION:
SUMMARY:4. Delegiertenversammlung SVP Schweiz
ORGANIZER:
URL;VALUE=URI:https://www.svp-sz.ch/aktuell/termine/4-delegiertenversammlung-svp-schweiz/
TRANSP:OPAQUE
END:VEVENT
END:VCALENDAR
