BEGIN:VCALENDAR
VERSION:2.0
PRODID:-//SVP Kanton Schwyz //NONSGML Events //EN
CALSCALE:GREGORIAN
X-WR-CALNAME:SVP Kanton Schwyz
BEGIN:VEVENT
CREATED:20221216T054334Z
UID:12880
DTEND:20230826T000000
DTSTART:20230826T000000
DTSTAMP:20231024T153733Z
LOCATION:Kanton St. Gallen
DESCRIPTION:
SUMMARY:Wahlauftakt SVP Schweiz
ORGANIZER:
URL;VALUE=URI:https://www.svp-sz.ch/aktuell/termine/wahlauftakt-svp-schweiz/
TRANSP:OPAQUE
END:VEVENT
END:VCALENDAR
