BEGIN:VCALENDAR
VERSION:2.0
PRODID:-//SVP Kanton Schwyz //NONSGML Events //EN
CALSCALE:GREGORIAN
X-WR-CALNAME:SVP Kanton Schwyz
BEGIN:VEVENT
CREATED:20221216T054334Z
UID:12879
DTEND:20230701T000000
DTSTART:20230701T000000
DTSTAMP:20231024T153612Z
LOCATION:Küssnacht am Rigi
DESCRIPTION:Einladung (PDF)
SUMMARY:3. Delegiertenversammlung SVP Schweiz
ORGANIZER:
URL;VALUE=URI:https://www.svp-sz.ch/aktuell/termine/3-delegiertenversammlung-svp-schweiz/
TRANSP:OPAQUE
END:VEVENT
END:VCALENDAR
