BEGIN:VCALENDAR
VERSION:2.0
PRODID:-//SVP Kanton Schwyz //NONSGML Events //EN
CALSCALE:GREGORIAN
X-WR-CALNAME:SVP Kanton Schwyz
BEGIN:VEVENT
CREATED:20221216T054333Z
UID:12875
DTEND:20231022T000000
DTSTART:20231022T000000
DTSTAMP:20231024T153446Z
LOCATION:
DESCRIPTION:
SUMMARY:Eidg. und kantonale Abstimmung / Ständerats- und Nationalratswahlen
ORGANIZER:
URL;VALUE=URI:https://www.svp-sz.ch/aktuell/termine/eidg-und-kantonale-abstimmung-staenderats-und-nationalratswahlen/
TRANSP:OPAQUE
END:VEVENT
END:VCALENDAR
