BEGIN:VCALENDAR
VERSION:2.0
PRODID:-//SVP Kanton Schwyz //NONSGML Events //EN
CALSCALE:GREGORIAN
X-WR-CALNAME:SVP Kanton Schwyz
BEGIN:VEVENT
CREATED:20221216T054333Z
UID:12874
DTEND:20230618T000000
DTSTART:20230618T000000
DTSTAMP:20231024T153536Z
LOCATION:
DESCRIPTION:
SUMMARY:Eidg. und kantonale Abstimmung
ORGANIZER:
URL;VALUE=URI:https://www.svp-sz.ch/aktuell/termine/eidg-und-kantonale-abstimmung-7/
TRANSP:OPAQUE
END:VEVENT
END:VCALENDAR
