BEGIN:VCALENDAR
VERSION:2.0
PRODID:-//SVP Kanton Schwyz //NONSGML Events //EN
CALSCALE:GREGORIAN
X-WR-CALNAME:SVP Kanton Schwyz
BEGIN:VEVENT
CREATED:20221102T203423Z
UID:12785
DTEND:T190000
DTSTART:T183000
DTSTAMP:20231024T154341Z
LOCATION:Horseshoe Braui in 6414 Oberarth
DESCRIPTION:18.30 Uhr Apéro und Beginn Service mit volkstümlichem Auftakt 19.30 
SUMMARY:Nominationsversammlung der Stände- und Nationalratswahlen
ORGANIZER:
URL;VALUE=URI:https://www.svp-sz.ch/aktuell/termine/nominationsversammlung-der-staende-und-nationalratswahlen/
TRANSP:OPAQUE
END:VEVENT
END:VCALENDAR
