BEGIN:VCALENDAR
VERSION:2.0
PRODID:-//SVP Kanton Schwyz //NONSGML Events //EN
CALSCALE:GREGORIAN
X-WR-CALNAME:SVP Kanton Schwyz
BEGIN:VEVENT
CREATED:20220928T164520Z
UID:12752
DTEND:20221001T190000
DTSTART:20221001T180000
DTSTAMP:20260420T142205Z
LOCATION:
DESCRIPTION:Zu diesem Anlass ist die Bevölkerung herzlich zum Apéro im MythenFor
SUMMARY:50 Jahre SVP Kanton Schwyz
ORGANIZER:
URL;VALUE=URI:https://www.svp-sz.ch/aktuell/termine/50-jahre-svp-kanton-schwyz/
TRANSP:OPAQUE
END:VEVENT
END:VCALENDAR
