BEGIN:VCALENDAR
VERSION:2.0
PRODID:-//SVP Kanton Schwyz //NONSGML Events //EN
CALSCALE:GREGORIAN
X-WR-CALNAME:SVP Kanton Schwyz
BEGIN:VEVENT
CREATED:20220819T062936Z
UID:12664
DTEND:20220825T210000
DTSTART:20220825T200000
DTSTAMP:20231024T154013Z
LOCATION:Rest. Bären\, Lachen
DESCRIPTION:
SUMMARY:Wachstum und Lebensqualität zum Scheitern verurteilt?
ORGANIZER:
URL;VALUE=URI:https://www.svp-sz.ch/aktuell/termine/wachstum-und-lebensqualitaet-zum-scheitern-verurteilt/
TRANSP:OPAQUE
END:VEVENT
END:VCALENDAR
